BEGIN:VCALENDAR
VERSION:2.0
PRODID:-//Scuola Crea - ECPv6.15.20//NONSGML v1.0//EN
CALSCALE:GREGORIAN
METHOD:PUBLISH
X-ORIGINAL-URL:https://www.scuolacrea.it
X-WR-CALDESC:Eventi per Scuola Crea
REFRESH-INTERVAL;VALUE=DURATION:PT1H
X-Robots-Tag:noindex
X-PUBLISHED-TTL:PT1H
BEGIN:VTIMEZONE
TZID:UTC
BEGIN:STANDARD
TZOFFSETFROM:+0000
TZOFFSETTO:+0000
TZNAME:UTC
DTSTART:20170101T000000
END:STANDARD
END:VTIMEZONE
BEGIN:VEVENT
DTSTART;TZID=UTC:20180922T090000
DTEND;TZID=UTC:20180922T180000
DTSTAMP:20260421T121929
CREATED:20180825T143644Z
LAST-MODIFIED:20180825T143711Z
UID:9727-1537606800-1537639200@www.scuolacrea.it
SUMMARY:Esami di abilitazione - Consulente Educativo 14a edizione
DESCRIPTION:
URL:https://www.scuolacrea.it/evento/esame-di-abilitazione-consulente-educativo-14a-edizione/
LOCATION:Campo Scuola CReA\, Strada Consortile alla Scortica\, Arzago D'Adda\, BG\, 24040\, Italia
END:VEVENT
END:VCALENDAR