BEGIN:VCALENDAR
VERSION:2.0
PRODID:-//Scuola Crea - ECPv6.15.20//NONSGML v1.0//EN
CALSCALE:GREGORIAN
METHOD:PUBLISH
X-ORIGINAL-URL:https://www.scuolacrea.it
X-WR-CALDESC:Eventi per Scuola Crea
REFRESH-INTERVAL;VALUE=DURATION:PT1H
X-Robots-Tag:noindex
X-PUBLISHED-TTL:PT1H
BEGIN:VTIMEZONE
TZID:UTC
BEGIN:STANDARD
TZOFFSETFROM:+0000
TZOFFSETTO:+0000
TZNAME:UTC
DTSTART:20170101T000000
END:STANDARD
END:VTIMEZONE
BEGIN:VEVENT
DTSTART;TZID=UTC:20180505T090000
DTEND;TZID=UTC:20180505T180000
DTSTAMP:20260421T194825
CREATED:20180329T141055Z
LAST-MODIFIED:20180329T141055Z
UID:9607-1525510800-1525543200@www.scuolacrea.it
SUMMARY:Operatori di Canile - 1 Giornata
DESCRIPTION:
URL:https://www.scuolacrea.it/evento/operatori-di-canile-1-giornata/
END:VEVENT
BEGIN:VEVENT
DTSTART;TZID=UTC:20180512T090000
DTEND;TZID=UTC:20180512T180000
DTSTAMP:20260421T194825
CREATED:20180329T143038Z
LAST-MODIFIED:20180329T143102Z
UID:9609-1526115600-1526148000@www.scuolacrea.it
SUMMARY:Operatori di Canile - 2 Giornata
DESCRIPTION:
URL:https://www.scuolacrea.it/evento/operatori-di-canile-2-giornata/
END:VEVENT
BEGIN:VEVENT
DTSTART;TZID=UTC:20180519T090000
DTEND;TZID=UTC:20180519T180000
DTSTAMP:20260421T194825
CREATED:20180329T143156Z
LAST-MODIFIED:20180329T143156Z
UID:9611-1526720400-1526752800@www.scuolacrea.it
SUMMARY:Operatori di Canile - 3 Giornata
DESCRIPTION:
URL:https://www.scuolacrea.it/evento/operatori-di-canile-3-giornata/
END:VEVENT
BEGIN:VEVENT
DTSTART;TZID=UTC:20180526T090000
DTEND;TZID=UTC:20180526T180000
DTSTAMP:20260421T194825
CREATED:20180329T143226Z
LAST-MODIFIED:20180329T143226Z
UID:9613-1527325200-1527357600@www.scuolacrea.it
SUMMARY:Operatori di Canile - 4 Giornata
DESCRIPTION:
URL:https://www.scuolacrea.it/evento/operatori-di-canile-4-giornata/
END:VEVENT
END:VCALENDAR