BEGIN:VCALENDAR
VERSION:2.0
PRODID:-//Scuola Crea - ECPv6.15.20//NONSGML v1.0//EN
CALSCALE:GREGORIAN
METHOD:PUBLISH
X-ORIGINAL-URL:https://www.scuolacrea.it
X-WR-CALDESC:Eventi per Scuola Crea
REFRESH-INTERVAL;VALUE=DURATION:PT1H
X-Robots-Tag:noindex
X-PUBLISHED-TTL:PT1H
BEGIN:VTIMEZONE
TZID:UTC
BEGIN:STANDARD
TZOFFSETFROM:+0000
TZOFFSETTO:+0000
TZNAME:UTC
DTSTART:20160101T000000
END:STANDARD
END:VTIMEZONE
BEGIN:VEVENT
DTSTART;TZID=UTC:20171103T090000
DTEND;TZID=UTC:20171105T180000
DTSTAMP:20260422T034047
CREATED:20160926T062508Z
LAST-MODIFIED:20161119T055211Z
UID:9047-1509699600-1509904800@www.scuolacrea.it
SUMMARY:Consulente Riabilitativo - IX Modulo
DESCRIPTION:
URL:https://www.scuolacrea.it/evento/consulente-riabilitativo-ix-modulo/
LOCATION:Campo Scuola CReA\, Strada Consortile alla Scortica\, Arzago D'Adda\, BG\, 24040\, Italia
CATEGORIES:Corsi e Master
END:VEVENT
BEGIN:VEVENT
DTSTART;TZID=UTC:20171118T090000
DTEND;TZID=UTC:20171119T180000
DTSTAMP:20260422T034047
CREATED:20170523T111213Z
LAST-MODIFIED:20191203T151620Z
UID:9483-1510995600-1511114400@www.scuolacrea.it
SUMMARY:Consulente Riabilitativo 8a Ed. - 1 Modulo
DESCRIPTION:
URL:https://www.scuolacrea.it/evento/consulente-riabilitativo-8a-ed-1-modulo/
CATEGORIES:Corsi e Master
END:VEVENT
END:VCALENDAR