BEGIN:VCALENDAR
VERSION:2.0
PRODID:-//Scuola Crea - ECPv6.15.20//NONSGML v1.0//EN
CALSCALE:GREGORIAN
METHOD:PUBLISH
X-ORIGINAL-URL:https://www.scuolacrea.it
X-WR-CALDESC:Eventi per Scuola Crea
REFRESH-INTERVAL;VALUE=DURATION:PT1H
X-Robots-Tag:noindex
X-PUBLISHED-TTL:PT1H
BEGIN:VTIMEZONE
TZID:UTC
BEGIN:STANDARD
TZOFFSETFROM:+0000
TZOFFSETTO:+0000
TZNAME:UTC
DTSTART:20160101T000000
END:STANDARD
END:VTIMEZONE
BEGIN:VEVENT
DTSTART;TZID=UTC:20170915T080000
DTEND;TZID=UTC:20170917T170000
DTSTAMP:20260422T070156
CREATED:20160926T062305Z
LAST-MODIFIED:20161119T055057Z
UID:9043-1505462400-1505667600@www.scuolacrea.it
SUMMARY:Consulente Riabilitativo - VII Modulo
DESCRIPTION:
URL:https://www.scuolacrea.it/evento/consulente-riabilitativo-vii-modulo/
LOCATION:Campo Scuola CReA\, Strada Consortile alla Scortica\, Arzago D'Adda\, BG\, 24040\, Italia
CATEGORIES:Corsi e Master
END:VEVENT
END:VCALENDAR