BEGIN:VCALENDAR
VERSION:2.0
PRODID:-//Scuola Crea - ECPv6.15.20//NONSGML v1.0//EN
CALSCALE:GREGORIAN
METHOD:PUBLISH
X-ORIGINAL-URL:https://www.scuolacrea.it
X-WR-CALDESC:Eventi per Scuola Crea
REFRESH-INTERVAL;VALUE=DURATION:PT1H
X-Robots-Tag:noindex
X-PUBLISHED-TTL:PT1H
BEGIN:VTIMEZONE
TZID:UTC
BEGIN:STANDARD
TZOFFSETFROM:+0000
TZOFFSETTO:+0000
TZNAME:UTC
DTSTART:20160101T000000
END:STANDARD
END:VTIMEZONE
BEGIN:VEVENT
DTSTART;TZID=UTC:20171015T080000
DTEND;TZID=UTC:20171015T170000
DTSTAMP:20260422T070120
CREATED:20170214T081800Z
LAST-MODIFIED:20170214T122458Z
UID:9366-1508054400-1508086800@www.scuolacrea.it
SUMMARY:Giornata Gratuita - Libero al Guinzaglio
DESCRIPTION:[button url=”http://www.scuolacrea.it/wp-content/uploads/2017/02/LIBERO-AL-GUINZAGLIO_Locandina-e-Modulo-Iscrizione-_-2017.pdf” target=”_blank” color=”green” size=”medium” border=”false” icon=”” btn_content=”Scopri come Iscriverti!”]
URL:https://www.scuolacrea.it/evento/giornata-gratuita-libero-al-guinzaglio/
LOCATION:Canile di Arzago d’Adda\, Strada Consortile alla Scortica\, Arzago d'Adda\, BG\, 24040 \, Italia
CATEGORIES:Eventi Gratuiti Aperti a Tutti,Eventi Occasionali
ATTACH;FMTTYPE=image/jpeg:https://www.scuolacrea.it/wp-content/uploads/2016/09/weimaraner-1381186_1920.jpg
END:VEVENT
END:VCALENDAR