BEGIN:VCALENDAR
VERSION:2.0
PRODID:-//Scuola Crea - ECPv6.15.20//NONSGML v1.0//EN
CALSCALE:GREGORIAN
METHOD:PUBLISH
X-ORIGINAL-URL:https://www.scuolacrea.it
X-WR-CALDESC:Eventi per Scuola Crea
REFRESH-INTERVAL;VALUE=DURATION:PT1H
X-Robots-Tag:noindex
X-PUBLISHED-TTL:PT1H
BEGIN:VTIMEZONE
TZID:UTC
BEGIN:STANDARD
TZOFFSETFROM:+0000
TZOFFSETTO:+0000
TZNAME:UTC
DTSTART:20160101T000000
END:STANDARD
END:VTIMEZONE
BEGIN:VEVENT
DTSTART;TZID=UTC:20170120T180000
DTEND;TZID=UTC:20170120T200000
DTSTAMP:20260423T005419
CREATED:20161114T183716Z
LAST-MODIFIED:20161123T131403Z
UID:9267-1484935200-1484942400@www.scuolacrea.it
SUMMARY:Il Dott. Cattinelli in CReA
DESCRIPTION:[button url=”http://www.scuolacrea.it/wp-content/uploads/2016/11/Domanda-di-partecipazione-serata-Cattinelli-2017.pdf” target=”_blank” color=”green” size=”medium” border=”false” icon=”” btn_content=”Scopri come Prenotarti!”]
URL:https://www.scuolacrea.it/evento/il-dott-cattinelli-in-crea/
LOCATION:Campo Scuola CReA\, Strada Consortile alla Scortica\, Arzago D'Adda\, BG\, 24040\, Italia
CATEGORIES:Eventi Gratuiti Aperti a Tutti,Eventi Occasionali
ATTACH;FMTTYPE=image/png:https://www.scuolacrea.it/wp-content/uploads/2016/11/Immagine-Serata-Cattinelli-e1479151987610.png
END:VEVENT
END:VCALENDAR