BEGIN:VCALENDAR
VERSION:2.0
PRODID:-//Scuola Crea - ECPv6.15.20//NONSGML v1.0//EN
CALSCALE:GREGORIAN
METHOD:PUBLISH
X-WR-CALNAME:Scuola Crea
X-ORIGINAL-URL:https://www.scuolacrea.it
X-WR-CALDESC:Eventi per Scuola Crea
REFRESH-INTERVAL;VALUE=DURATION:PT1H
X-Robots-Tag:noindex
X-PUBLISHED-TTL:PT1H
BEGIN:VTIMEZONE
TZID:UTC
BEGIN:STANDARD
TZOFFSETFROM:+0000
TZOFFSETTO:+0000
TZNAME:UTC
DTSTART:20150101T000000
END:STANDARD
END:VTIMEZONE
BEGIN:VEVENT
DTSTART;TZID=UTC:20161111T090000
DTEND;TZID=UTC:20161113T180000
DTSTAMP:20260423T053629
CREATED:20160926T054126Z
LAST-MODIFIED:20160926T055113Z
UID:9006-1478854800-1479060000@www.scuolacrea.it
SUMMARY:Consulente Educativo - II Modulo
DESCRIPTION:
URL:https://www.scuolacrea.it/evento/consulente-educativo-2/
LOCATION:Campo Scuola CReA\, Strada Consortile alla Scortica\, Arzago D'Adda\, BG\, 24040\, Italia
CATEGORIES:Corsi e Master
END:VEVENT
END:VCALENDAR